BEGIN:VCALENDAR
VERSION:2.0
PRODID:-//DCI Việt Nam - ECPv5.3.1.1//NONSGML v1.0//EN
CALSCALE:GREGORIAN
METHOD:PUBLISH
X-WR-CALNAME:DCI Việt Nam
X-ORIGINAL-URL:https://web.dci.edu.vn
X-WR-CALDESC:Events for DCI Việt Nam
BEGIN:VTIMEZONE
TZID:Asia/Ho_Chi_Minh
BEGIN:STANDARD
TZOFFSETFROM:+0700
TZOFFSETTO:+0700
TZNAME:+07
DTSTART:20210101T000000
END:STANDARD
END:VTIMEZONE
BEGIN:VEVENT
DTSTART;TZID=Asia/Ho_Chi_Minh:20210612T080000
DTEND;TZID=Asia/Ho_Chi_Minh:20210613T200000
DTSTAMP:20260425T215304
CREATED:20210302T065623Z
LAST-MODIFIED:20210504T061534Z
UID:15213-1623484800-1623614400@web.dci.edu.vn
SUMMARY:DCI cấp độ 4-5 (TPHCM)
DESCRIPTION:[vc_section full_width=”stretch_row” css=”.vc_custom_1519729320894{margin-top: 0px !important;margin-bottom: 0px !important;padding-top: 0px !important;padding-bottom: 0px !important;background-color: #ffffff !important;background-position: center !important;background-repeat: no-repeat !important;background-size: cover !important;}”][vc_row gap=”15″ equal_height=”yes” css_animation=”none” css=”.vc_custom_1605248255886{margin-top: -30px !important;margin-bottom: 0px !important;padding-top: 73px !important;padding-right: 0px !important;padding-bottom: 73px !important;padding-left: 0px !important;}”][vc_column css=”.vc_custom_1519797724944{margin-top: 0px !important;margin-bottom: 0px !important;border-top-width: 1px !important;border-right-width: 1px !important;border-bottom-width: 1px !important;border-left-width: 1px !important;padding-top: 37px !important;padding-right: 37px !important;padding-bottom: 37px !important;padding-left: 37px !important;background-color: #fbfbfb !important;border-left-color: #eae9e9 !important;border-left-style: solid !important;border-right-color: #eae9e9 !important;border-right-style: solid !important;border-top-color: #eae9e9 !important;border-top-style: solid !important;border-bottom-color: #eae9e9 !important;border-bottom-style: solid !important;}”][vc_custom_heading text=”Mô tả sự kiện” font_container=”tag:h3|font_size:36px|text_align:left|line_height:45px” use_theme_fonts=”yes” css_animation=”none” css=”.vc_custom_1609843269207{margin-top: 0px !important;margin-bottom: 0px !important;padding-top: 0px !important;padding-bottom: 0px !important;}”][vc_column_text css_animation=”none” css=”.vc_custom_1614668054251{margin-top: 10px !important;margin-bottom: 0px !important;padding-top: 0px !important;padding-right: 0px !important;padding-bottom: 0px !important;padding-left: 0px !important;}”]\nPhương pháp xây dựng & phát triển mối quan hệ hoàn mỹ trong Gia đình – Công việc – Xã hội \n[/vc_column_text][vc_column_text css_animation=”none” css=”.vc_custom_1614668102050{margin-top: 10px !important;margin-bottom: 0px !important;padding-top: 0px !important;padding-right: 0px !important;padding-bottom: 0px !important;padding-left: 0px !important;}”]\n\nXem thêm thông tin về khóa học DC.I cấp độ 4 tại đây\nXem thêm thông tin về khóa học DC.I cấp độ 5 tại đây\n\n[/vc_column_text][vc_row_inner][vc_column_inner][vc_empty_space height=”40px”][/vc_column_inner][/vc_row_inner][vc_row_inner equal_height=”yes”][vc_column_inner width=”1/4″][vc_column_text el_class=”contact-info-custom” css=”.vc_custom_1614668118427{margin-top: 0px !important;margin-bottom: 0px !important;padding-top: 0px !important;padding-bottom: 0px !important;}”]Thời gian: \n\n12-13/06/2021\n 08:00 – 20:00\n\n[/vc_column_text][/vc_column_inner][vc_column_inner width=”3/4″][vc_column_text el_class=”contact-info-custom” css=”.vc_custom_1614664728598{margin-top: 0px !important;margin-bottom: 0px !important;padding-top: 0px !important;padding-bottom: 0px !important;}”]Địa chỉ: TPHCM[/vc_column_text][vc_column_text el_class=”contact-info-custom” css=”.vc_custom_1614585626336{margin-top: 0px !important;margin-bottom: 0px !important;padding-top: 0px !important;padding-bottom: 0px !important;}”]Số điện thoại: 0936 556 357[/vc_column_text][vc_column_text el_class=”contact-info-custom” css=”.vc_custom_1614585638916{margin-top: 0px !important;margin-bottom: 0px !important;padding-top: 0px !important;padding-bottom: 0px !important;}”]Email: info@dci.edu.vn[/vc_column_text][/vc_column_inner][/vc_row_inner][/vc_column][/vc_row][vc_row gap=”15″ equal_height=”yes” css_animation=”none” css=”.vc_custom_1609843003471{margin-top: -100px !important;margin-bottom: 0px !important;padding-top: 73px !important;padding-right: 0px !important;padding-bottom: 73px !important;padding-left: 0px !important;}”][vc_column width=”1/2″ css=”.vc_custom_1519797724944{margin-top: 0px !important;margin-bottom: 0px !important;border-top-width: 1px !important;border-right-width: 1px !important;border-bottom-width: 1px !important;border-left-width: 1px !important;padding-top: 37px !important;padding-right: 37px !important;padding-bottom: 37px !important;padding-left: 37px !important;background-color: #fbfbfb !important;border-left-color: #eae9e9 !important;border-left-style: solid !important;border-right-color: #eae9e9 !important;border-right-style: solid !important;border-top-color: #eae9e9 !important;border-top-style: solid !important;border-bottom-color: #eae9e9 !important;border-bottom-style: solid !important;}”][vc_custom_heading text=”Đăng ký” font_container=”tag:h3|font_size:36px|text_align:left|line_height:45px” use_theme_fonts=”yes” css_animation=”none” css=”.vc_custom_1614585670370{margin-top: 0px !important;margin-bottom: 0px !important;padding-top: 0px !important;padding-bottom: 0px !important;}” link=”url:https%3A%2F%2Fdocs.google.com%2Fforms%2Fd%2Fe%2F1FAIpQLScHErGl-MEY4Si6UUJZVIQCuM9SIjpqjgMkpKL7KcRh8vUYwg%2Fviewform”][vc_row_inner css=”.vc_custom_1519730957211{margin-top: 35px !important;margin-bottom: 0px !important;padding-top: 0px !important;padding-bottom: 0px !important;}”][vc_column_inner]\n\n  \n\n\n\n\n\n\n\n\n\n\n	\n		\n			\n			 \n		\n	\n	\n		\n			\n			 \n		\n	\n	\n		\n			\n			 \n		\n	\n	\n		\n			\n			 \n		\n	\n	\n		\n			\n			 \n		\n	\n	\n		\n			\n			 \n		\n	\nΔ \n\n\n[/vc_column_inner][/vc_row_inner][/vc_column][vc_column width=”1/2″][vc_gmaps link=”#E-8_JTNDaWZyYW1lJTIwc3JjJTNEJTIyaHR0cHMlM0ElMkYlMkZ3d3cuZ29vZ2xlLmNvbSUyRm1hcHMlMkZlbWJlZCUzRnBiJTNEJTIxMW0xOCUyMTFtMTIlMjExbTMlMjExZDUwMTcyNi40NjA0NTM4MDM3NyUyMTJkMTA2LjQxNTAzMTk2OTYyMjk2JTIxM2QxMC43NTQ2NjYzOTcxODUzNTclMjEybTMlMjExZjAlMjEyZjAlMjEzZjAlMjEzbTIlMjExaTEwMjQlMjEyaTc2OCUyMTRmMTMuMSUyMTNtMyUyMTFtMiUyMTFzMHgzMTc1MjkyOTJlOGQzZGQxJTI1M0EweGYxNWY1YWFkNzczYzExMmIlMjEyelNPRzdreUJEYU1PdElFMXBibWdzSUZSb3c2QnVhQ0J3YU9HN2tTQkk0YnVUSUVOb3c2MGdUV2x1YUElMjE1ZTAlMjEzbTIlMjExc3ZpJTIxMnMlMjE0djE2MTQ2NjQ3NTY3NzYlMjE1bTIlMjExc3ZpJTIxMnMlMjIlMjB3aWR0aCUzRCUyMjYwMCUyMiUyMGhlaWdodCUzRCUyMjQ1MCUyMiUyMHN0eWxlJTNEJTIyYm9yZGVyJTNBMCUzQiUyMiUyMGFsbG93ZnVsbHNjcmVlbiUzRCUyMiUyMiUyMGxvYWRpbmclM0QlMjJsYXp5JTIyJTNFJTNDJTJGaWZyYW1lJTNF”][/vc_column][/vc_row][vc_row gap=”15″ equal_height=”yes” css_animation=”none” css=”.vc_custom_1609843018123{margin-top: -100px !important;margin-bottom: 0px !important;padding-top: 73px !important;padding-right: 0px !important;padding-bottom: 73px !important;padding-left: 0px !important;}”][vc_column css=”.vc_custom_1519797724944{margin-top: 0px !important;margin-bottom: 0px !important;border-top-width: 1px !important;border-right-width: 1px !important;border-bottom-width: 1px !important;border-left-width: 1px !important;padding-top: 37px !important;padding-right: 37px !important;padding-bottom: 37px !important;padding-left: 37px !important;background-color: #fbfbfb !important;border-left-color: #eae9e9 !important;border-left-style: solid !important;border-right-color: #eae9e9 !important;border-right-style: solid !important;border-top-color: #eae9e9 !important;border-top-style: solid !important;border-bottom-color: #eae9e9 !important;border-bottom-style: solid !important;}”][vc_custom_heading text=”Giảng viên của chúng tôi” font_container=”tag:h5|text_align:left|line_height:45px” use_theme_fonts=”yes” css_animation=”none” css=”.vc_custom_1609844057694{margin-top: 0px !important;margin-bottom: 0px !important;padding-top: 0px !important;padding-bottom: 0px !important;}”][vc_empty_space height=”15px”][vc_row_inner][vc_column_inner width=”1/4″][vc_single_image image=”11567″ img_size=”medium”][/vc_column_inner][vc_column_inner width=”3/4″][vc_custom_heading text=”Nguyễn Công Bình” font_container=”tag:h5|font_size:36px|text_align:left|line_height:45px” use_theme_fonts=”yes” css_animation=”none” css=”.vc_custom_1609842738717{margin-top: 0px !important;margin-bottom: 0px !important;padding-top: 0px !important;padding-bottom: 0px !important;}”][vc_column_text]Nhà sáng lập & Chủ tịch DAGroup & DCI Việt Nam[/vc_column_text][vc_column_text]\n\nNhà sáng lập & Chủ tịch DAGroup & DCI Việt Nam\nNhà sáng lập & CEO Adam Khoo Education Việt Nam\nNhà sáng lập & CEO học viên Sen Kim Cương Việt Nam\nTổng Giám Đốc công ty TNHH XNK Công Bình\nChủ tịch cộng đồng Năng Đoạn Kim Cương (DCI) Việt Nam\nGiảng viên độc quyền của DCI Việt Nam\nHoàn thành 12 cấp độ DCI & SCIM cùng thầy Geshe Michael Roach\n\n[/vc_column_text][/vc_column_inner][/vc_row_inner][/vc_column][/vc_row][vc_row equal_height=”yes”][vc_column width=”1/2″][/vc_column][vc_column width=”1/2″][/vc_column][/vc_row][/vc_section]
URL:https://web.dci.edu.vn/events/dci-cap-do-4-5-tphcm/
CATEGORIES:DC.I cấp độ 4,DC.I cấp độ 5
ATTACH;FMTTYPE=image/jpeg:https://web.dci.edu.vn/wp-content/uploads/2020/11/DCI-cấp-dộ-1_3.jpg
END:VEVENT
BEGIN:VEVENT
DTSTART;TZID=Asia/Ho_Chi_Minh:20210619T080000
DTEND;TZID=Asia/Ho_Chi_Minh:20210620T200000
DTSTAMP:20260425T215304
CREATED:20210302T070423Z
LAST-MODIFIED:20211007T031026Z
UID:15217-1624089600-1624219200@web.dci.edu.vn
SUMMARY:DCI cấp độ 4-5 (Hà Nội)
DESCRIPTION:[vc_section full_width=”stretch_row” css=”.vc_custom_1519729320894{margin-top: 0px !important;margin-bottom: 0px !important;padding-top: 0px !important;padding-bottom: 0px !important;background-color: #ffffff !important;background-position: center !important;background-repeat: no-repeat !important;background-size: cover !important;}”][vc_row gap=”15″ equal_height=”yes” css_animation=”none” css=”.vc_custom_1605248255886{margin-top: -30px !important;margin-bottom: 0px !important;padding-top: 73px !important;padding-right: 0px !important;padding-bottom: 73px !important;padding-left: 0px !important;}”][vc_column css=”.vc_custom_1519797724944{margin-top: 0px !important;margin-bottom: 0px !important;border-top-width: 1px !important;border-right-width: 1px !important;border-bottom-width: 1px !important;border-left-width: 1px !important;padding-top: 37px !important;padding-right: 37px !important;padding-bottom: 37px !important;padding-left: 37px !important;background-color: #fbfbfb !important;border-left-color: #eae9e9 !important;border-left-style: solid !important;border-right-color: #eae9e9 !important;border-right-style: solid !important;border-top-color: #eae9e9 !important;border-top-style: solid !important;border-bottom-color: #eae9e9 !important;border-bottom-style: solid !important;}”][vc_custom_heading text=”Mô tả sự kiện” font_container=”tag:h3|font_size:36px|text_align:left|line_height:45px” use_theme_fonts=”yes” css_animation=”none” css=”.vc_custom_1609843269207{margin-top: 0px !important;margin-bottom: 0px !important;padding-top: 0px !important;padding-bottom: 0px !important;}”][vc_column_text css_animation=”none” css=”.vc_custom_1614668054251{margin-top: 10px !important;margin-bottom: 0px !important;padding-top: 0px !important;padding-right: 0px !important;padding-bottom: 0px !important;padding-left: 0px !important;}”]\nPhương pháp xây dựng & phát triển mối quan hệ hoàn mỹ trong Gia đình – Công việc – Xã hội \n[/vc_column_text][vc_column_text css_animation=”none” css=”.vc_custom_1614668102050{margin-top: 10px !important;margin-bottom: 0px !important;padding-top: 0px !important;padding-right: 0px !important;padding-bottom: 0px !important;padding-left: 0px !important;}”]\n\n 	Xem thêm thông tin về khóa học DC.I cấp độ 4 tại đây\n 	Xem thêm thông tin về khóa học DC.I cấp độ 5 tại đây\n\n[/vc_column_text][vc_row_inner][vc_column_inner][vc_empty_space height=”40px”][/vc_column_inner][/vc_row_inner][vc_row_inner equal_height=”yes”][vc_column_inner width=”1/4″][vc_column_text el_class=”contact-info-custom” css=”.vc_custom_1614668604907{margin-top: 0px !important;margin-bottom: 0px !important;padding-top: 0px !important;padding-bottom: 0px !important;}”]Thời gian:\n\n 	19-20/06/2021\n 	 08:00 – 20:00\n\n[/vc_column_text][/vc_column_inner][vc_column_inner width=”3/4″][vc_column_text el_class=”contact-info-custom” css=”.vc_custom_1614668592994{margin-top: 0px !important;margin-bottom: 0px !important;padding-top: 0px !important;padding-bottom: 0px !important;}”]Địa chỉ: Hà Nội[/vc_column_text][vc_column_text el_class=”contact-info-custom” css=”.vc_custom_1614585626336{margin-top: 0px !important;margin-bottom: 0px !important;padding-top: 0px !important;padding-bottom: 0px !important;}”]Số điện thoại: 0936 556 357[/vc_column_text][vc_column_text el_class=”contact-info-custom” css=”.vc_custom_1614585638916{margin-top: 0px !important;margin-bottom: 0px !important;padding-top: 0px !important;padding-bottom: 0px !important;}”]Email: info@dci.edu.vn[/vc_column_text][/vc_column_inner][/vc_row_inner][/vc_column][/vc_row][vc_row gap=”15″ equal_height=”yes” css_animation=”none” css=”.vc_custom_1609843003471{margin-top: -100px !important;margin-bottom: 0px !important;padding-top: 73px !important;padding-right: 0px !important;padding-bottom: 73px !important;padding-left: 0px !important;}”][vc_column width=”1/2″ css=”.vc_custom_1519797724944{margin-top: 0px !important;margin-bottom: 0px !important;border-top-width: 1px !important;border-right-width: 1px !important;border-bottom-width: 1px !important;border-left-width: 1px !important;padding-top: 37px !important;padding-right: 37px !important;padding-bottom: 37px !important;padding-left: 37px !important;background-color: #fbfbfb !important;border-left-color: #eae9e9 !important;border-left-style: solid !important;border-right-color: #eae9e9 !important;border-right-style: solid !important;border-top-color: #eae9e9 !important;border-top-style: solid !important;border-bottom-color: #eae9e9 !important;border-bottom-style: solid !important;}”][vc_custom_heading text=”Đăng ký” font_container=”tag:h3|font_size:36px|text_align:left|line_height:45px” use_theme_fonts=”yes” css_animation=”none” css=”.vc_custom_1614585670370{margin-top: 0px !important;margin-bottom: 0px !important;padding-top: 0px !important;padding-bottom: 0px !important;}” link=”url:https%3A%2F%2Fdocs.google.com%2Fforms%2Fd%2Fe%2F1FAIpQLScHErGl-MEY4Si6UUJZVIQCuM9SIjpqjgMkpKL7KcRh8vUYwg%2Fviewform”][vc_row_inner css=”.vc_custom_1519730957211{margin-top: 35px !important;margin-bottom: 0px !important;padding-top: 0px !important;padding-bottom: 0px !important;}”][vc_column_inner]\n\n  \n\n\n\n\n\n\n\n\n\n\n	\n		\n			\n			 \n		\n	\n	\n		\n			\n			 \n		\n	\n	\n		\n			\n			 \n		\n	\n	\n		\n			\n			 \n		\n	\n	\n		\n			\n			 \n		\n	\n	\n		\n			\n			 \n		\n	\nΔ \n\n\n[/vc_column_inner][/vc_row_inner][/vc_column][vc_column width=”1/2″][vc_gmaps link=”#E-8_JTNDaWZyYW1lJTIwc3JjJTNEJTIyaHR0cHMlM0ElMkYlMkZ3d3cuZ29vZ2xlLmNvbSUyRm1hcHMlMkZlbWJlZCUzRnBiJTNEJTIxMW0xOCUyMTFtMTIlMjExbTMlMjExZDU5NTg3Ljk3Nzg1NDQ4NzcxJTIxMmQxMDUuODAxOTQ0MTM0OTI3ODglMjEzZDIxLjAyMjczNjAxNjI5NDQ4JTIxMm0zJTIxMWYwJTIxMmYwJTIxM2YwJTIxM20yJTIxMWkxMDI0JTIxMmk3NjglMjE0ZjEzLjElMjEzbTMlMjExbTIlMjExczB4MzEzNWFiOWJkOTg2MWNhMSUyNTNBMHhlNzg4N2Y3YjcyY2ExN2E5JTIxMnpTTU9nSUU3aHU1bHBMQ0JJYjhPZ2JpQkxhZUc2djIwc0lFakRvQ0JPNGJ1WmFTd2dWbW5odTRkMElFNWhiUSUyMTVlMCUyMTNtMiUyMTFzdmklMjEycyUyMTR2MTYxNDY2NzYyODIzMCUyMTVtMiUyMTFzdmklMjEycyUyMiUyMHdpZHRoJTNEJTIyNjAwJTIyJTIwaGVpZ2h0JTNEJTIyNDUwJTIyJTIwc3R5bGUlM0QlMjJib3JkZXIlM0EwJTNCJTIyJTIwYWxsb3dmdWxsc2NyZWVuJTNEJTIyJTIyJTIwbG9hZGluZyUzRCUyMmxhenklMjIlM0UlM0MlMkZpZnJhbWUlM0U=”][/vc_column][/vc_row][vc_row gap=”15″ equal_height=”yes” css_animation=”none” css=”.vc_custom_1609843018123{margin-top: -100px !important;margin-bottom: 0px !important;padding-top: 73px !important;padding-right: 0px !important;padding-bottom: 73px !important;padding-left: 0px !important;}”][vc_column css=”.vc_custom_1519797724944{margin-top: 0px !important;margin-bottom: 0px !important;border-top-width: 1px !important;border-right-width: 1px !important;border-bottom-width: 1px !important;border-left-width: 1px !important;padding-top: 37px !important;padding-right: 37px !important;padding-bottom: 37px !important;padding-left: 37px !important;background-color: #fbfbfb !important;border-left-color: #eae9e9 !important;border-left-style: solid !important;border-right-color: #eae9e9 !important;border-right-style: solid !important;border-top-color: #eae9e9 !important;border-top-style: solid !important;border-bottom-color: #eae9e9 !important;border-bottom-style: solid !important;}”][vc_custom_heading text=”Giảng viên của chúng tôi” font_container=”tag:h5|text_align:left|line_height:45px” use_theme_fonts=”yes” css_animation=”none” css=”.vc_custom_1609844057694{margin-top: 0px !important;margin-bottom: 0px !important;padding-top: 0px !important;padding-bottom: 0px !important;}”][vc_empty_space height=”15px”][vc_row_inner][vc_column_inner width=”1/4″][vc_single_image image=”11567″ img_size=”medium”][/vc_column_inner][vc_column_inner width=”3/4″][vc_custom_heading text=”Nguyễn Công Bình” font_container=”tag:h5|font_size:36px|text_align:left|line_height:45px” use_theme_fonts=”yes” css_animation=”none” css=”.vc_custom_1609842738717{margin-top: 0px !important;margin-bottom: 0px !important;padding-top: 0px !important;padding-bottom: 0px !important;}”][vc_column_text]Nhà sáng lập & Chủ tịch DAGroup & DCI Việt Nam[/vc_column_text][vc_column_text]\n\n 	Nhà sáng lập & Chủ tịch DAGroup & DCI Việt Nam\n 	Nhà sáng lập & CEO Adam Khoo Education Việt Nam\n 	Nhà sáng lập & CEO học viên Sen Kim Cương Việt Nam\n 	Tổng Giám Đốc công ty TNHH XNK Công Bình\n 	Chủ tịch cộng đồng Năng Đoạn Kim Cương (DCI) Việt Nam\n 	Giảng viên độc quyền của DCI Việt Nam\n 	Hoàn thành 12 cấp độ DCI & SCIM cùng thầy Geshe Michael Roach\n\n[/vc_column_text][/vc_column_inner][/vc_row_inner][/vc_column][/vc_row][vc_row equal_height=”yes”][vc_column width=”1/2″][/vc_column][vc_column width=”1/2″][/vc_column][/vc_row][/vc_section]
URL:https://web.dci.edu.vn/events/dci-cap-do-4-5-ha-noi/
CATEGORIES:DC.I cấp độ 4,DC.I cấp độ 5
ATTACH;FMTTYPE=image/jpeg:https://web.dci.edu.vn/wp-content/uploads/2020/11/DCI-cấp-dộ-1_3.jpg
END:VEVENT
END:VCALENDAR